BEGIN:VCALENDAR
VERSION:2.0
PRODID:-// - ECPv6.15.20//NONSGML v1.0//EN
CALSCALE:GREGORIAN
METHOD:PUBLISH
X-ORIGINAL-URL:https://hopechurchbham.org
X-WR-CALDESC:Events for 
REFRESH-INTERVAL;VALUE=DURATION:PT1H
X-Robots-Tag:noindex
X-PUBLISHED-TTL:PT1H
BEGIN:VTIMEZONE
TZID:UTC
BEGIN:STANDARD
TZOFFSETFROM:+0000
TZOFFSETTO:+0000
TZNAME:UTC
DTSTART:20250101T000000
END:STANDARD
END:VTIMEZONE
BEGIN:VEVENT
DTSTART;TZID=UTC:20261220T100000
DTEND;TZID=UTC:20261220T120000
DTSTAMP:20260424T231832
CREATED:20260309T152736Z
LAST-MODIFIED:20260309T152736Z
UID:2760-1797760800-1797768000@hopechurchbham.org
SUMMARY:Christmas Extravaganza
DESCRIPTION:
URL:https://hopechurchbham.org/event/christmas-extravaganza/
LOCATION:HOPE Church\, 4121 Vanderbilt Road\, Birmingham\, AL\, 35217\, United States
END:VEVENT
END:VCALENDAR