BEGIN:VCALENDAR
VERSION:2.0
PRODID:-// - ECPv6.15.20//NONSGML v1.0//EN
CALSCALE:GREGORIAN
METHOD:PUBLISH
X-ORIGINAL-URL:https://hopechurchbham.org
X-WR-CALDESC:Events for 
REFRESH-INTERVAL;VALUE=DURATION:PT1H
X-Robots-Tag:noindex
X-PUBLISHED-TTL:PT1H
BEGIN:VTIMEZONE
TZID:UTC
BEGIN:STANDARD
TZOFFSETFROM:+0000
TZOFFSETTO:+0000
TZNAME:UTC
DTSTART:20240101T000000
END:STANDARD
END:VTIMEZONE
BEGIN:VEVENT
DTSTART;TZID=UTC:20250419T100000
DTEND;TZID=UTC:20250419T110000
DTSTAMP:20260425T040237
CREATED:20250402T232330Z
LAST-MODIFIED:20250402T232330Z
UID:1560-1745056800-1745060400@hopechurchbham.org
SUMMARY:In-Person Prayer Meeting
DESCRIPTION:
URL:https://hopechurchbham.org/event/in-person-prayer-meeting-3/
LOCATION:HOPE Church\, 4121 Vanderbilt Road\, Birmingham\, AL\, 35217\, United States
END:VEVENT
BEGIN:VEVENT
DTSTART;TZID=UTC:20250412T100000
DTEND;TZID=UTC:20250412T110000
DTSTAMP:20260425T040237
CREATED:20250402T232304Z
LAST-MODIFIED:20250402T232304Z
UID:1558-1744452000-1744455600@hopechurchbham.org
SUMMARY:In-Person Prayer Meeting
DESCRIPTION:
URL:https://hopechurchbham.org/event/in-person-prayer-meeting-2/
LOCATION:HOPE Church\, 4121 Vanderbilt Road\, Birmingham\, AL\, 35217\, United States
END:VEVENT
BEGIN:VEVENT
DTSTART;TZID=UTC:20250405T100000
DTEND;TZID=UTC:20250405T110000
DTSTAMP:20260425T040237
CREATED:20250402T232150Z
LAST-MODIFIED:20250402T232150Z
UID:1556-1743847200-1743850800@hopechurchbham.org
SUMMARY:In-Person Prayer Meeting
DESCRIPTION:
URL:https://hopechurchbham.org/event/in-person-prayer-meeting/
LOCATION:HOPE Church\, 4121 Vanderbilt Road\, Birmingham\, AL\, 35217\, United States
END:VEVENT
END:VCALENDAR