BEGIN:VCALENDAR
VERSION:2.0
PRODID:-// - ECPv6.15.20//NONSGML v1.0//EN
CALSCALE:GREGORIAN
METHOD:PUBLISH
X-ORIGINAL-URL:https://hopechurchbham.org
X-WR-CALDESC:Events for 
REFRESH-INTERVAL;VALUE=DURATION:PT1H
X-Robots-Tag:noindex
X-PUBLISHED-TTL:PT1H
BEGIN:VTIMEZONE
TZID:UTC
BEGIN:STANDARD
TZOFFSETFROM:+0000
TZOFFSETTO:+0000
TZNAME:UTC
DTSTART:20250101T000000
END:STANDARD
END:VTIMEZONE
BEGIN:VEVENT
DTSTART;VALUE=DATE:20261212
DTEND;VALUE=DATE:20261213
DTSTAMP:20260425T035000
CREATED:20260309T152616Z
LAST-MODIFIED:20260309T152616Z
UID:2758-1797033600-1797119999@hopechurchbham.org
SUMMARY:Hurting Women's Ministry Banquet
DESCRIPTION:
URL:https://hopechurchbham.org/event/hurting-womens-ministry-banquet/
LOCATION:TBA
END:VEVENT
END:VCALENDAR