BEGIN:VCALENDAR
VERSION:2.0
PRODID:-// - ECPv6.15.20//NONSGML v1.0//EN
CALSCALE:GREGORIAN
METHOD:PUBLISH
X-ORIGINAL-URL:https://hopechurchbham.org
X-WR-CALDESC:Events for 
REFRESH-INTERVAL;VALUE=DURATION:PT1H
X-Robots-Tag:noindex
X-PUBLISHED-TTL:PT1H
BEGIN:VTIMEZONE
TZID:UTC
BEGIN:STANDARD
TZOFFSETFROM:+0000
TZOFFSETTO:+0000
TZNAME:UTC
DTSTART:20250101T000000
END:STANDARD
END:VTIMEZONE
BEGIN:VEVENT
DTSTART;TZID=UTC:20260405T100000
DTEND;TZID=UTC:20260405T120000
DTSTAMP:20260424T175839
CREATED:20260309T150709Z
LAST-MODIFIED:20260309T180956Z
UID:2744-1775383200-1775390400@hopechurchbham.org
SUMMARY:Happy Resurrection Sunday
DESCRIPTION:
URL:https://hopechurchbham.org/event/happy-resurrection-sunday/
LOCATION:HOPE Church\, 4121 Vanderbilt Road\, Birmingham\, AL\, 35217\, United States
END:VEVENT
END:VCALENDAR